BEGIN:VCALENDAR
VERSION:2.0
PRODID:-//The Social - ECPv6.15.20//NONSGML v1.0//EN
CALSCALE:GREGORIAN
METHOD:PUBLISH
X-WR-CALNAME:The Social
X-ORIGINAL-URL:https://socialbartampa.com
X-WR-CALDESC:Events for The Social
REFRESH-INTERVAL;VALUE=DURATION:PT1H
X-Robots-Tag:noindex
X-PUBLISHED-TTL:PT1H
BEGIN:VTIMEZONE
TZID:America/New_York
BEGIN:DAYLIGHT
TZOFFSETFROM:-0500
TZOFFSETTO:-0400
TZNAME:EDT
DTSTART:20230312T070000
END:DAYLIGHT
BEGIN:STANDARD
TZOFFSETFROM:-0400
TZOFFSETTO:-0500
TZNAME:EST
DTSTART:20231105T060000
END:STANDARD
BEGIN:DAYLIGHT
TZOFFSETFROM:-0500
TZOFFSETTO:-0400
TZNAME:EDT
DTSTART:20240310T070000
END:DAYLIGHT
BEGIN:STANDARD
TZOFFSETFROM:-0400
TZOFFSETTO:-0500
TZNAME:EST
DTSTART:20241103T060000
END:STANDARD
BEGIN:DAYLIGHT
TZOFFSETFROM:-0500
TZOFFSETTO:-0400
TZNAME:EDT
DTSTART:20250309T070000
END:DAYLIGHT
BEGIN:STANDARD
TZOFFSETFROM:-0400
TZOFFSETTO:-0500
TZNAME:EST
DTSTART:20251102T060000
END:STANDARD
END:VTIMEZONE
BEGIN:VTIMEZONE
TZID:UTC
BEGIN:STANDARD
TZOFFSETFROM:+0000
TZOFFSETTO:+0000
TZNAME:UTC
DTSTART:20230101T000000
END:STANDARD
END:VTIMEZONE
BEGIN:VEVENT
DTSTART;TZID=America/New_York:20240126T070000
DTEND;TZID=America/New_York:20240127T030000
DTSTAMP:20260422T163740
CREATED:20240114T005422Z
LAST-MODIFIED:20240114T005422Z
UID:18417-1706252400-1706324400@socialbartampa.com
SUMMARY:The Social Bar & Lounge - Official GRAND Opening Event
DESCRIPTION:
URL:https://socialbartampa.com/event/the-social-bar-lounge-official-grand-opening-event/
LOCATION:The Social Bar and Lounge\, 2502 N Albany Ave\, Tampa\, 33607\, United States
CATEGORIES:Cocktails,Drinks,Events
ATTACH;FMTTYPE=image/jpeg:https://socialbartampa.com/wp-content/uploads/2024/01/GRAND-OPENING-AD-INSTAGRAM-POST-Template-2.jpg
END:VEVENT
BEGIN:VEVENT
DTSTART;TZID=UTC:20240112T190000
DTEND;TZID=UTC:20240113T030000
DTSTAMP:20260422T163740
CREATED:20200428T172125Z
LAST-MODIFIED:20240109T214502Z
UID:1194-1705086000-1705114800@socialbartampa.com
SUMMARY:Grand Re-Opening: new brand and bold flavors
DESCRIPTION:Welcome to The Social Bar and Lounge\, a vibrant establishment nestled in the heart of West Tampa\, formerly known as the iconic Cotton Club. Continuing the rich legacy of the Salmon family\, our venue has been the preferred social hub for residents in West Tampa for over 70 years. Our commitment to preserving tradition while embracing modernity is evident in our unique service style—offering drinks by the bottle. This approach pays homage to the countless memories created by guests\, spanning generations. \nOriginally recognized as Gracie’s Place\, our venue boasts a remarkable history\, including being owned by one of the trailblazing African American women to hold a Liquor License. We invite you to be a part of our storied past as you step into The Social Bar and Lounge. Whether you’re looking for a refreshing drink\, eager to connect with new faces\, planning memorable events\, or simply grooving to a mix of contemporary and timeless tunes\, our doors are open to welcome you into an experience that transcends time.
URL:https://socialbartampa.com/event/cocktail-night-new-flavors-and-bold-experiments/
LOCATION:The Social Bar and Lounge\, 2502 N Albany Ave\, Tampa\, 33607\, United States
CATEGORIES:Cocktails,Drinks,Events
ATTACH;FMTTYPE=image/jpeg:https://socialbartampa.com/wp-content/uploads/2020/04/GRAND-OPENING-AD-INSTAGRAM-POST-Template-1.jpg
END:VEVENT
END:VCALENDAR